BEGIN:VCALENDAR
VERSION:2.0
PRODID:-//Birra Abbà - ECPv6.10.2//NONSGML v1.0//EN
CALSCALE:GREGORIAN
METHOD:PUBLISH
X-ORIGINAL-URL:https://birrabba.it
X-WR-CALDESC:Eventi per Birra Abbà
REFRESH-INTERVAL;VALUE=DURATION:PT1H
X-Robots-Tag:noindex
X-PUBLISHED-TTL:PT1H
BEGIN:VTIMEZONE
TZID:UTC
BEGIN:STANDARD
TZOFFSETFROM:+0000
TZOFFSETTO:+0000
TZNAME:UTC
DTSTART:20240101T000000
END:STANDARD
END:VTIMEZONE
BEGIN:VEVENT
DTSTART;TZID=UTC:20241018T180000
DTEND;TZID=UTC:20241019T010000
DTSTAMP:20260422T012258
CREATED:20241004T152847Z
LAST-MODIFIED:20241004T152847Z
UID:3291-1729274400-1729299600@birrabba.it
SUMMARY:Gin Festival di Bologna
DESCRIPTION:Siamo entusiasti di annunciare che Birra Abbà parteciperà al prossimo Gin Festival di Bologna\, un evento imperdibile per gli appassionati di bevande artigianali e mixologia! L’evento si terrà il 18 e 19 ottobre 2024 e sarà l’occasione perfetta per esplorare nuovi gusti e combinazioni\, mettendo in risalto le eccellenze dei produttori artigianali. \nUn festival dedicato al gusto\nIl Gin Festival di Bologna non è solo un evento dedicato al gin\, ma un vero e proprio viaggio tra i sapori e gli aromi più ricercati. Durante le due giornate del festival\, il pubblico potrà immergersi nel mondo della distillazione\, conoscere i produttori di gin e altre bevande artigianali e\, naturalmente\, partecipare a degustazioni. La presenza di Birra Abbà aggiungerà una nota interessante\, offrendo agli amanti della birra una vasta selezione di proposte artigianali che ben si abbinano con l’atmosfera del festival. \nCosa aspettarsi dallo stand di Birra Abbà\nDurante l’evento\, Birra Abbà proporrà alcune delle sue migliori birre artigianali. Il nostro stand offrirà ai visitatori l’opportunità di degustare birre prodotte con passione\, che uniscono tradizione e innovazione. Sarà una grande occasione per sperimentare abbinamenti inediti tra birra e gin\, creando un ponte tra due mondi apparentemente distanti ma che condividono l’amore per la qualità e l’arte della produzione artigianale. \nDettagli pratici\nIl Gin Festival di Bologna si terrà presso una delle location più suggestive della città e sarà aperto al pubblico nei seguenti orari: \n\nSabato 18 ottobre: dalle 18:00 alle 1:00\nDomenica 19 ottobre: dalle 18:00 alle 1:00\n\nL’ingresso al festival è di 6 euro\, un prezzo accessibile che permette di partecipare a una delle manifestazioni più apprezzate dagli amanti delle bevande artigianali. Durante il festival\, i visitatori potranno scoprire nuove distillerie\, partecipare a workshop e masterclass sulla mixologia\, e degustare una vasta gamma di gin e birre artigianali. \nNon perdere l’occasione di visitare lo stand di Birra Abbà al Gin Festival di Bologna. Se sei un appassionato di birra\, gin o semplicemente alla ricerca di nuove esperienze gastronomiche\, questo evento è fatto su misura per te! Preparati a scoprire sapori inediti e a condividere momenti di convivialità all’insegna dell’eccellenza artigianale. \nVi aspettiamo il 18 e 19 ottobre a Bologna\, per due giornate indimenticabili di gusto e passione!
URL:https://birrabba.it/evento/gin-festival-di-bologna/
LOCATION:Bologna\, Bologna\, BG\, 40131\, Italia
CATEGORIES:Festival
ATTACH;FMTTYPE=image/jpeg:https://birrabba.it/wp-content/uploads/2024/10/gin-festival.jpg
END:VEVENT
END:VCALENDAR